BEGIN:VCALENDAR
VERSION:2.0
PRODID:-//Contratero//ES
CALSCALE:GREGORIAN
METHOD:PUBLISH
BEGIN:VEVENT
UID:DNA 190/2024@contratero.es
DTSTAMP:20260420T133346Z
DTSTART:20240710T235959
DTEND:20240711T005959
SUMMARY:Cierre: Soporte del producto Calibry
DESCRIPTION:Soporte del producto Calibry\\n\\nOrganismo: Dirección Económico-Financiera de ENAIRE\\n\\nVer en Contratero: https://contratero.es/contracts/DNA 190/2024
URL:https://contratero.es/contracts/DNA 190/2024
STATUS:CONFIRMED
BEGIN:VALARM
TRIGGER:-P1D
ACTION:DISPLAY
DESCRIPTION:Recordatorio: Soporte del producto Calibry
END:VALARM
END:VEVENT
END:VCALENDAR